BEGIN:VCALENDAR
VERSION:2.0
PRODID:-//Trimble County Kentucky - ECPv6.15.17.1//NONSGML v1.0//EN
CALSCALE:GREGORIAN
METHOD:PUBLISH
X-WR-CALNAME:Trimble County Kentucky
X-ORIGINAL-URL:https://trimblecountyky.gov
X-WR-CALDESC:Events for Trimble County Kentucky
REFRESH-INTERVAL;VALUE=DURATION:PT1H
X-Robots-Tag:noindex
X-PUBLISHED-TTL:PT1H
BEGIN:VTIMEZONE
TZID:America/Chicago
BEGIN:DAYLIGHT
TZOFFSETFROM:-0600
TZOFFSETTO:-0500
TZNAME:CDT
DTSTART:20270314T080000
END:DAYLIGHT
BEGIN:STANDARD
TZOFFSETFROM:-0500
TZOFFSETTO:-0600
TZNAME:CST
DTSTART:20271107T070000
END:STANDARD
BEGIN:DAYLIGHT
TZOFFSETFROM:-0600
TZOFFSETTO:-0500
TZNAME:CDT
DTSTART:20280312T080000
END:DAYLIGHT
BEGIN:STANDARD
TZOFFSETFROM:-0500
TZOFFSETTO:-0600
TZNAME:CST
DTSTART:20281105T070000
END:STANDARD
BEGIN:DAYLIGHT
TZOFFSETFROM:-0600
TZOFFSETTO:-0500
TZNAME:CDT
DTSTART:20290311T080000
END:DAYLIGHT
BEGIN:STANDARD
TZOFFSETFROM:-0500
TZOFFSETTO:-0600
TZNAME:CST
DTSTART:20291104T070000
END:STANDARD
END:VTIMEZONE
BEGIN:VEVENT
DTSTART;TZID=America/Chicago:20280509T173000
DTEND;TZID=America/Chicago:20280509T183000
DTSTAMP:20260422T080029
CREATED:20250131T005741Z
LAST-MODIFIED:20250629T202138Z
UID:10001211-1841506200-1841509800@trimblecountyky.gov
SUMMARY:Planning and Zoning Meeting
DESCRIPTION:Planning and Zoning Board meets the 2nd Tuesday of each month at 5:30pm.
URL:https://trimblecountyky.gov/event/planning-and-zoning-meeting/2028-05-09/
LOCATION:Trimble County Fiscal Court Building\, 123 Church Street\, Bedford\, KY\, 40006\, United States
CATEGORIES:Planning & Zoning
END:VEVENT
BEGIN:VEVENT
DTSTART;TZID=America/Chicago:20280515T090000
DTEND;TZID=America/Chicago:20280515T090000
DTSTAMP:20260422T080029
CREATED:20250131T005140Z
LAST-MODIFIED:20250225T171358Z
UID:10000283-1841994000-1841994000@trimblecountyky.gov
SUMMARY:Fiscal Court Meeting
DESCRIPTION:Fiscal Court meeting are the 1st and 3rd Monday of each month. \n1st Monday meeting @ 6:30pm3rd Monday meeting @ 9:00am \nIf a regular meeting falls on a Holiday\, the meeting will be held the next day at the regular scheduled time.
URL:https://trimblecountyky.gov/event/fiscal-court-meeting-2/2028-05-15/
LOCATION:Trimble County Fiscal Court Building\, 123 Church Street\, Bedford\, KY\, 40006\, United States
CATEGORIES:Fiscal Court
END:VEVENT
BEGIN:VEVENT
DTSTART;TZID=America/Chicago:20280516T180000
DTEND;TZID=America/Chicago:20280516T190000
DTSTAMP:20260422T080029
CREATED:20250221T162522Z
LAST-MODIFIED:20250225T175715Z
UID:10000469-1842112800-1842116400@trimblecountyky.gov
SUMMARY:Bedford City Meeting
DESCRIPTION:Bedford City meetings are the third Tuesday of every month at 6:00 pm at the Community Center.
URL:https://trimblecountyky.gov/event/bedford-city-meeting/2028-05-16/
LOCATION:Morgan Community Center\, 147 Victory Lane\, Bedford\, KY\, 40006
CATEGORIES:Bedford City
END:VEVENT
BEGIN:VEVENT
DTSTART;TZID=America/Chicago:20280518T180000
DTEND;TZID=America/Chicago:20280518T190000
DTSTAMP:20260422T080029
CREATED:20260115T151557Z
LAST-MODIFIED:20260115T151557Z
UID:10001379-1842285600-1842289200@trimblecountyky.gov
SUMMARY:Code Enforcement Board Regular Meeting
DESCRIPTION:The Code Enforcement Board meets the 3rd Thursday of each month at 6:00pm.
URL:https://trimblecountyky.gov/event/code-enforcement-board-regular-meeting/2028-05-18/
LOCATION:Trimble County Fiscal Court Building\, 123 Church Street\, Bedford\, KY\, 40006\, United States
END:VEVENT
BEGIN:VEVENT
DTSTART;TZID=America/Chicago:20280524T080000
DTEND;TZID=America/Chicago:20280524T170000
DTSTAMP:20260422T080029
CREATED:20250130T200826Z
LAST-MODIFIED:20250225T183756Z
UID:10000157-1842768000-1842800400@trimblecountyky.gov
SUMMARY:Dare to Care
DESCRIPTION:4th Wednesday of every month at Trimble County Park.
URL:https://trimblecountyky.gov/event/dare-to-care/2028-05-24/
LOCATION:Trimble County Park\, 3114 Hwy 421 N.\, Bedford\, KY\, 40006
CATEGORIES:Parks & Recreation
END:VEVENT
BEGIN:VEVENT
DTSTART;TZID=America/Chicago:20280524T090000
DTEND;TZID=America/Chicago:20280524T090000
DTSTAMP:20260422T080029
CREATED:20250322T155240Z
LAST-MODIFIED:20250322T155240Z
UID:10000539-1842771600-1842771600@trimblecountyky.gov
SUMMARY:Trimble County Water Board Regular Meeting
DESCRIPTION:Trimble County Water Board meetings are the last Wednesday of every month at 9:00 am.
URL:https://trimblecountyky.gov/event/trimble-county-water-board-regular-meeting/2028-05-24/
CATEGORIES:Water Board
END:VEVENT
BEGIN:VEVENT
DTSTART;TZID=America/Chicago:20280605T183000
DTEND;TZID=America/Chicago:20280605T183000
DTSTAMP:20260422T080029
CREATED:20250131T004113Z
LAST-MODIFIED:20250225T171331Z
UID:10000223-1843842600-1843842600@trimblecountyky.gov
SUMMARY:Fiscal Court Meeting
DESCRIPTION:Fiscal Court meetings are the 1st and 3rd Monday of each month. \n1st Monday meeting is at 6:30pm3rd Monday meeting is at 9:00am \nIf a regular meeting falls on a Holiday\, it will be the following day at the regular scheduled meeting time.
URL:https://trimblecountyky.gov/event/fiscal-court-meeting/2028-06-05/
LOCATION:Trimble County Fiscal Court Building\, 123 Church Street\, Bedford\, KY\, 40006\, United States
CATEGORIES:Fiscal Court
END:VEVENT
BEGIN:VEVENT
DTSTART;TZID=America/Chicago:20280613T173000
DTEND;TZID=America/Chicago:20280613T183000
DTSTAMP:20260422T080029
CREATED:20250131T005741Z
LAST-MODIFIED:20250629T202138Z
UID:10001212-1844530200-1844533800@trimblecountyky.gov
SUMMARY:Planning and Zoning Meeting
DESCRIPTION:Planning and Zoning Board meets the 2nd Tuesday of each month at 5:30pm.
URL:https://trimblecountyky.gov/event/planning-and-zoning-meeting/2028-06-13/
LOCATION:Trimble County Fiscal Court Building\, 123 Church Street\, Bedford\, KY\, 40006\, United States
CATEGORIES:Planning & Zoning
END:VEVENT
BEGIN:VEVENT
DTSTART;TZID=America/Chicago:20280615T180000
DTEND;TZID=America/Chicago:20280615T190000
DTSTAMP:20260422T080029
CREATED:20260115T151557Z
LAST-MODIFIED:20260115T151557Z
UID:10001380-1844704800-1844708400@trimblecountyky.gov
SUMMARY:Code Enforcement Board Regular Meeting
DESCRIPTION:The Code Enforcement Board meets the 3rd Thursday of each month at 6:00pm.
URL:https://trimblecountyky.gov/event/code-enforcement-board-regular-meeting/2028-06-15/
LOCATION:Trimble County Fiscal Court Building\, 123 Church Street\, Bedford\, KY\, 40006\, United States
END:VEVENT
BEGIN:VEVENT
DTSTART;TZID=America/Chicago:20280619T090000
DTEND;TZID=America/Chicago:20280619T090000
DTSTAMP:20260422T080029
CREATED:20250131T005140Z
LAST-MODIFIED:20250225T171358Z
UID:10000284-1845018000-1845018000@trimblecountyky.gov
SUMMARY:Fiscal Court Meeting
DESCRIPTION:Fiscal Court meeting are the 1st and 3rd Monday of each month. \n1st Monday meeting @ 6:30pm3rd Monday meeting @ 9:00am \nIf a regular meeting falls on a Holiday\, the meeting will be held the next day at the regular scheduled time.
URL:https://trimblecountyky.gov/event/fiscal-court-meeting-2/2028-06-19/
LOCATION:Trimble County Fiscal Court Building\, 123 Church Street\, Bedford\, KY\, 40006\, United States
CATEGORIES:Fiscal Court
END:VEVENT
BEGIN:VEVENT
DTSTART;TZID=America/Chicago:20280620T180000
DTEND;TZID=America/Chicago:20280620T190000
DTSTAMP:20260422T080029
CREATED:20250221T162522Z
LAST-MODIFIED:20250225T175715Z
UID:10000470-1845136800-1845140400@trimblecountyky.gov
SUMMARY:Bedford City Meeting
DESCRIPTION:Bedford City meetings are the third Tuesday of every month at 6:00 pm at the Community Center.
URL:https://trimblecountyky.gov/event/bedford-city-meeting/2028-06-20/
LOCATION:Morgan Community Center\, 147 Victory Lane\, Bedford\, KY\, 40006
CATEGORIES:Bedford City
END:VEVENT
BEGIN:VEVENT
DTSTART;TZID=America/Chicago:20280628T080000
DTEND;TZID=America/Chicago:20280628T170000
DTSTAMP:20260422T080029
CREATED:20250130T200826Z
LAST-MODIFIED:20250225T183756Z
UID:10000158-1845792000-1845824400@trimblecountyky.gov
SUMMARY:Dare to Care
DESCRIPTION:4th Wednesday of every month at Trimble County Park.
URL:https://trimblecountyky.gov/event/dare-to-care/2028-06-28/
LOCATION:Trimble County Park\, 3114 Hwy 421 N.\, Bedford\, KY\, 40006
CATEGORIES:Parks & Recreation
END:VEVENT
BEGIN:VEVENT
DTSTART;TZID=America/Chicago:20280628T090000
DTEND;TZID=America/Chicago:20280628T090000
DTSTAMP:20260422T080029
CREATED:20250322T155240Z
LAST-MODIFIED:20250322T155240Z
UID:10000540-1845795600-1845795600@trimblecountyky.gov
SUMMARY:Trimble County Water Board Regular Meeting
DESCRIPTION:Trimble County Water Board meetings are the last Wednesday of every month at 9:00 am.
URL:https://trimblecountyky.gov/event/trimble-county-water-board-regular-meeting/2028-06-28/
CATEGORIES:Water Board
END:VEVENT
BEGIN:VEVENT
DTSTART;TZID=America/Chicago:20280703T183000
DTEND;TZID=America/Chicago:20280703T183000
DTSTAMP:20260422T080029
CREATED:20250131T004113Z
LAST-MODIFIED:20250225T171331Z
UID:10000224-1846261800-1846261800@trimblecountyky.gov
SUMMARY:Fiscal Court Meeting
DESCRIPTION:Fiscal Court meetings are the 1st and 3rd Monday of each month. \n1st Monday meeting is at 6:30pm3rd Monday meeting is at 9:00am \nIf a regular meeting falls on a Holiday\, it will be the following day at the regular scheduled meeting time.
URL:https://trimblecountyky.gov/event/fiscal-court-meeting/2028-07-03/
LOCATION:Trimble County Fiscal Court Building\, 123 Church Street\, Bedford\, KY\, 40006\, United States
CATEGORIES:Fiscal Court
END:VEVENT
BEGIN:VEVENT
DTSTART;TZID=America/Chicago:20280711T173000
DTEND;TZID=America/Chicago:20280711T183000
DTSTAMP:20260422T080029
CREATED:20250131T005741Z
LAST-MODIFIED:20250629T202138Z
UID:10001213-1846949400-1846953000@trimblecountyky.gov
SUMMARY:Planning and Zoning Meeting
DESCRIPTION:Planning and Zoning Board meets the 2nd Tuesday of each month at 5:30pm.
URL:https://trimblecountyky.gov/event/planning-and-zoning-meeting/2028-07-11/
LOCATION:Trimble County Fiscal Court Building\, 123 Church Street\, Bedford\, KY\, 40006\, United States
CATEGORIES:Planning & Zoning
END:VEVENT
BEGIN:VEVENT
DTSTART;TZID=America/Chicago:20280717T090000
DTEND;TZID=America/Chicago:20280717T090000
DTSTAMP:20260422T080029
CREATED:20250131T005140Z
LAST-MODIFIED:20250225T171358Z
UID:10000285-1847437200-1847437200@trimblecountyky.gov
SUMMARY:Fiscal Court Meeting
DESCRIPTION:Fiscal Court meeting are the 1st and 3rd Monday of each month. \n1st Monday meeting @ 6:30pm3rd Monday meeting @ 9:00am \nIf a regular meeting falls on a Holiday\, the meeting will be held the next day at the regular scheduled time.
URL:https://trimblecountyky.gov/event/fiscal-court-meeting-2/2028-07-17/
LOCATION:Trimble County Fiscal Court Building\, 123 Church Street\, Bedford\, KY\, 40006\, United States
CATEGORIES:Fiscal Court
END:VEVENT
BEGIN:VEVENT
DTSTART;TZID=America/Chicago:20280718T180000
DTEND;TZID=America/Chicago:20280718T190000
DTSTAMP:20260422T080029
CREATED:20250221T162522Z
LAST-MODIFIED:20250225T175715Z
UID:10000471-1847556000-1847559600@trimblecountyky.gov
SUMMARY:Bedford City Meeting
DESCRIPTION:Bedford City meetings are the third Tuesday of every month at 6:00 pm at the Community Center.
URL:https://trimblecountyky.gov/event/bedford-city-meeting/2028-07-18/
LOCATION:Morgan Community Center\, 147 Victory Lane\, Bedford\, KY\, 40006
CATEGORIES:Bedford City
END:VEVENT
BEGIN:VEVENT
DTSTART;TZID=America/Chicago:20280720T180000
DTEND;TZID=America/Chicago:20280720T190000
DTSTAMP:20260422T080029
CREATED:20260115T151557Z
LAST-MODIFIED:20260115T151557Z
UID:10001381-1847728800-1847732400@trimblecountyky.gov
SUMMARY:Code Enforcement Board Regular Meeting
DESCRIPTION:The Code Enforcement Board meets the 3rd Thursday of each month at 6:00pm.
URL:https://trimblecountyky.gov/event/code-enforcement-board-regular-meeting/2028-07-20/
LOCATION:Trimble County Fiscal Court Building\, 123 Church Street\, Bedford\, KY\, 40006\, United States
END:VEVENT
BEGIN:VEVENT
DTSTART;TZID=America/Chicago:20280726T080000
DTEND;TZID=America/Chicago:20280726T170000
DTSTAMP:20260422T080029
CREATED:20250130T200826Z
LAST-MODIFIED:20250225T183756Z
UID:10000159-1848211200-1848243600@trimblecountyky.gov
SUMMARY:Dare to Care
DESCRIPTION:4th Wednesday of every month at Trimble County Park.
URL:https://trimblecountyky.gov/event/dare-to-care/2028-07-26/
LOCATION:Trimble County Park\, 3114 Hwy 421 N.\, Bedford\, KY\, 40006
CATEGORIES:Parks & Recreation
END:VEVENT
BEGIN:VEVENT
DTSTART;TZID=America/Chicago:20280726T090000
DTEND;TZID=America/Chicago:20280726T090000
DTSTAMP:20260422T080029
CREATED:20250322T155240Z
LAST-MODIFIED:20250322T155240Z
UID:10000541-1848214800-1848214800@trimblecountyky.gov
SUMMARY:Trimble County Water Board Regular Meeting
DESCRIPTION:Trimble County Water Board meetings are the last Wednesday of every month at 9:00 am.
URL:https://trimblecountyky.gov/event/trimble-county-water-board-regular-meeting/2028-07-26/
CATEGORIES:Water Board
END:VEVENT
BEGIN:VEVENT
DTSTART;TZID=America/Chicago:20280807T183000
DTEND;TZID=America/Chicago:20280807T183000
DTSTAMP:20260422T080029
CREATED:20250131T004113Z
LAST-MODIFIED:20250225T171331Z
UID:10000225-1849285800-1849285800@trimblecountyky.gov
SUMMARY:Fiscal Court Meeting
DESCRIPTION:Fiscal Court meetings are the 1st and 3rd Monday of each month. \n1st Monday meeting is at 6:30pm3rd Monday meeting is at 9:00am \nIf a regular meeting falls on a Holiday\, it will be the following day at the regular scheduled meeting time.
URL:https://trimblecountyky.gov/event/fiscal-court-meeting/2028-08-07/
LOCATION:Trimble County Fiscal Court Building\, 123 Church Street\, Bedford\, KY\, 40006\, United States
CATEGORIES:Fiscal Court
END:VEVENT
BEGIN:VEVENT
DTSTART;TZID=America/Chicago:20280808T173000
DTEND;TZID=America/Chicago:20280808T183000
DTSTAMP:20260422T080029
CREATED:20250131T005741Z
LAST-MODIFIED:20250629T202138Z
UID:10001214-1849368600-1849372200@trimblecountyky.gov
SUMMARY:Planning and Zoning Meeting
DESCRIPTION:Planning and Zoning Board meets the 2nd Tuesday of each month at 5:30pm.
URL:https://trimblecountyky.gov/event/planning-and-zoning-meeting/2028-08-08/
LOCATION:Trimble County Fiscal Court Building\, 123 Church Street\, Bedford\, KY\, 40006\, United States
CATEGORIES:Planning & Zoning
END:VEVENT
BEGIN:VEVENT
DTSTART;TZID=America/Chicago:20280815T180000
DTEND;TZID=America/Chicago:20280815T190000
DTSTAMP:20260422T080029
CREATED:20250221T162522Z
LAST-MODIFIED:20250225T175715Z
UID:10000472-1849975200-1849978800@trimblecountyky.gov
SUMMARY:Bedford City Meeting
DESCRIPTION:Bedford City meetings are the third Tuesday of every month at 6:00 pm at the Community Center.
URL:https://trimblecountyky.gov/event/bedford-city-meeting/2028-08-15/
LOCATION:Morgan Community Center\, 147 Victory Lane\, Bedford\, KY\, 40006
CATEGORIES:Bedford City
END:VEVENT
BEGIN:VEVENT
DTSTART;TZID=America/Chicago:20280817T180000
DTEND;TZID=America/Chicago:20280817T190000
DTSTAMP:20260422T080029
CREATED:20260115T151557Z
LAST-MODIFIED:20260115T151557Z
UID:10001382-1850148000-1850151600@trimblecountyky.gov
SUMMARY:Code Enforcement Board Regular Meeting
DESCRIPTION:The Code Enforcement Board meets the 3rd Thursday of each month at 6:00pm.
URL:https://trimblecountyky.gov/event/code-enforcement-board-regular-meeting/2028-08-17/
LOCATION:Trimble County Fiscal Court Building\, 123 Church Street\, Bedford\, KY\, 40006\, United States
END:VEVENT
BEGIN:VEVENT
DTSTART;TZID=America/Chicago:20280821T090000
DTEND;TZID=America/Chicago:20280821T090000
DTSTAMP:20260422T080029
CREATED:20250131T005140Z
LAST-MODIFIED:20250225T171358Z
UID:10000286-1850461200-1850461200@trimblecountyky.gov
SUMMARY:Fiscal Court Meeting
DESCRIPTION:Fiscal Court meeting are the 1st and 3rd Monday of each month. \n1st Monday meeting @ 6:30pm3rd Monday meeting @ 9:00am \nIf a regular meeting falls on a Holiday\, the meeting will be held the next day at the regular scheduled time.
URL:https://trimblecountyky.gov/event/fiscal-court-meeting-2/2028-08-21/
LOCATION:Trimble County Fiscal Court Building\, 123 Church Street\, Bedford\, KY\, 40006\, United States
CATEGORIES:Fiscal Court
END:VEVENT
BEGIN:VEVENT
DTSTART;TZID=America/Chicago:20280823T080000
DTEND;TZID=America/Chicago:20280823T170000
DTSTAMP:20260422T080029
CREATED:20250130T200826Z
LAST-MODIFIED:20250225T183756Z
UID:10000160-1850630400-1850662800@trimblecountyky.gov
SUMMARY:Dare to Care
DESCRIPTION:4th Wednesday of every month at Trimble County Park.
URL:https://trimblecountyky.gov/event/dare-to-care/2028-08-23/
LOCATION:Trimble County Park\, 3114 Hwy 421 N.\, Bedford\, KY\, 40006
CATEGORIES:Parks & Recreation
END:VEVENT
BEGIN:VEVENT
DTSTART;TZID=America/Chicago:20280823T090000
DTEND;TZID=America/Chicago:20280823T090000
DTSTAMP:20260422T080029
CREATED:20250322T155240Z
LAST-MODIFIED:20250322T155240Z
UID:10000542-1850634000-1850634000@trimblecountyky.gov
SUMMARY:Trimble County Water Board Regular Meeting
DESCRIPTION:Trimble County Water Board meetings are the last Wednesday of every month at 9:00 am.
URL:https://trimblecountyky.gov/event/trimble-county-water-board-regular-meeting/2028-08-23/
CATEGORIES:Water Board
END:VEVENT
BEGIN:VEVENT
DTSTART;TZID=America/Chicago:20280904T183000
DTEND;TZID=America/Chicago:20280904T183000
DTSTAMP:20260422T080029
CREATED:20250131T004113Z
LAST-MODIFIED:20250225T171331Z
UID:10000226-1851705000-1851705000@trimblecountyky.gov
SUMMARY:Fiscal Court Meeting
DESCRIPTION:Fiscal Court meetings are the 1st and 3rd Monday of each month. \n1st Monday meeting is at 6:30pm3rd Monday meeting is at 9:00am \nIf a regular meeting falls on a Holiday\, it will be the following day at the regular scheduled meeting time.
URL:https://trimblecountyky.gov/event/fiscal-court-meeting/2028-09-04/
LOCATION:Trimble County Fiscal Court Building\, 123 Church Street\, Bedford\, KY\, 40006\, United States
CATEGORIES:Fiscal Court
END:VEVENT
BEGIN:VEVENT
DTSTART;TZID=America/Chicago:20280912T173000
DTEND;TZID=America/Chicago:20280912T183000
DTSTAMP:20260422T080029
CREATED:20250131T005741Z
LAST-MODIFIED:20250629T202138Z
UID:10001215-1852392600-1852396200@trimblecountyky.gov
SUMMARY:Planning and Zoning Meeting
DESCRIPTION:Planning and Zoning Board meets the 2nd Tuesday of each month at 5:30pm.
URL:https://trimblecountyky.gov/event/planning-and-zoning-meeting/2028-09-12/
LOCATION:Trimble County Fiscal Court Building\, 123 Church Street\, Bedford\, KY\, 40006\, United States
CATEGORIES:Planning & Zoning
END:VEVENT
BEGIN:VEVENT
DTSTART;TZID=America/Chicago:20280918T090000
DTEND;TZID=America/Chicago:20280918T090000
DTSTAMP:20260422T080029
CREATED:20250131T005140Z
LAST-MODIFIED:20250225T171358Z
UID:10000287-1852880400-1852880400@trimblecountyky.gov
SUMMARY:Fiscal Court Meeting
DESCRIPTION:Fiscal Court meeting are the 1st and 3rd Monday of each month. \n1st Monday meeting @ 6:30pm3rd Monday meeting @ 9:00am \nIf a regular meeting falls on a Holiday\, the meeting will be held the next day at the regular scheduled time.
URL:https://trimblecountyky.gov/event/fiscal-court-meeting-2/2028-09-18/
LOCATION:Trimble County Fiscal Court Building\, 123 Church Street\, Bedford\, KY\, 40006\, United States
CATEGORIES:Fiscal Court
END:VEVENT
END:VCALENDAR