BEGIN:VCALENDAR
VERSION:2.0
PRODID:-//Trimble County Kentucky - ECPv6.15.17.1//NONSGML v1.0//EN
CALSCALE:GREGORIAN
METHOD:PUBLISH
X-ORIGINAL-URL:https://trimblecountyky.gov
X-WR-CALDESC:Events for Trimble County Kentucky
REFRESH-INTERVAL;VALUE=DURATION:PT1H
X-Robots-Tag:noindex
X-PUBLISHED-TTL:PT1H
BEGIN:VTIMEZONE
TZID:America/Chicago
BEGIN:DAYLIGHT
TZOFFSETFROM:-0600
TZOFFSETTO:-0500
TZNAME:CDT
DTSTART:20270314T080000
END:DAYLIGHT
BEGIN:STANDARD
TZOFFSETFROM:-0500
TZOFFSETTO:-0600
TZNAME:CST
DTSTART:20271107T070000
END:STANDARD
BEGIN:DAYLIGHT
TZOFFSETFROM:-0600
TZOFFSETTO:-0500
TZNAME:CDT
DTSTART:20280312T080000
END:DAYLIGHT
BEGIN:STANDARD
TZOFFSETFROM:-0500
TZOFFSETTO:-0600
TZNAME:CST
DTSTART:20281105T070000
END:STANDARD
BEGIN:DAYLIGHT
TZOFFSETFROM:-0600
TZOFFSETTO:-0500
TZNAME:CDT
DTSTART:20290311T080000
END:DAYLIGHT
BEGIN:STANDARD
TZOFFSETFROM:-0500
TZOFFSETTO:-0600
TZNAME:CST
DTSTART:20291104T070000
END:STANDARD
BEGIN:DAYLIGHT
TZOFFSETFROM:-0600
TZOFFSETTO:-0500
TZNAME:CDT
DTSTART:20300310T080000
END:DAYLIGHT
BEGIN:STANDARD
TZOFFSETFROM:-0500
TZOFFSETTO:-0600
TZNAME:CST
DTSTART:20301103T070000
END:STANDARD
END:VTIMEZONE
BEGIN:VEVENT
DTSTART;TZID=America/Chicago:20281025T080000
DTEND;TZID=America/Chicago:20281025T170000
DTSTAMP:20260424T094400
CREATED:20250130T200826Z
LAST-MODIFIED:20250225T183756Z
UID:10000162-1856073600-1856106000@trimblecountyky.gov
SUMMARY:Dare to Care
DESCRIPTION:4th Wednesday of every month at Trimble County Park.
URL:https://trimblecountyky.gov/event/dare-to-care/2028-10-25/
LOCATION:Trimble County Park\, 3114 Hwy 421 N.\, Bedford\, KY\, 40006
CATEGORIES:Parks & Recreation
END:VEVENT
BEGIN:VEVENT
DTSTART;TZID=America/Chicago:20281025T090000
DTEND;TZID=America/Chicago:20281025T090000
DTSTAMP:20260424T094400
CREATED:20250322T155240Z
LAST-MODIFIED:20250322T155240Z
UID:10000544-1856077200-1856077200@trimblecountyky.gov
SUMMARY:Trimble County Water Board Regular Meeting
DESCRIPTION:Trimble County Water Board meetings are the last Wednesday of every month at 9:00 am.
URL:https://trimblecountyky.gov/event/trimble-county-water-board-regular-meeting/2028-10-25/
LOCATION:KY
CATEGORIES:Water Board
END:VEVENT
BEGIN:VEVENT
DTSTART;TZID=America/Chicago:20281106T183000
DTEND;TZID=America/Chicago:20281106T183000
DTSTAMP:20260424T094400
CREATED:20250131T004113Z
LAST-MODIFIED:20250225T171331Z
UID:10000228-1857148200-1857148200@trimblecountyky.gov
SUMMARY:Fiscal Court Meeting
DESCRIPTION:Fiscal Court meetings are the 1st and 3rd Monday of each month. \n1st Monday meeting is at 6:30pm3rd Monday meeting is at 9:00am \nIf a regular meeting falls on a Holiday\, it will be the following day at the regular scheduled meeting time.
URL:https://trimblecountyky.gov/event/fiscal-court-meeting/2028-11-06/
LOCATION:Trimble County Fiscal Court Building\, 123 Church Street\, Bedford\, KY\, 40006\, United States
CATEGORIES:Fiscal Court
END:VEVENT
BEGIN:VEVENT
DTSTART;TZID=America/Chicago:20281114T173000
DTEND;TZID=America/Chicago:20281114T183000
DTSTAMP:20260424T094400
CREATED:20250131T005741Z
LAST-MODIFIED:20250629T202138Z
UID:10001217-1857835800-1857839400@trimblecountyky.gov
SUMMARY:Planning and Zoning Meeting
DESCRIPTION:Planning and Zoning Board meets the 2nd Tuesday of each month at 5:30pm.
URL:https://trimblecountyky.gov/event/planning-and-zoning-meeting/2028-11-14/
LOCATION:Trimble County Fiscal Court Building\, 123 Church Street\, Bedford\, KY\, 40006\, United States
CATEGORIES:Planning & Zoning
END:VEVENT
BEGIN:VEVENT
DTSTART;TZID=America/Chicago:20281116T180000
DTEND;TZID=America/Chicago:20281116T190000
DTSTAMP:20260424T094400
CREATED:20260115T151557Z
LAST-MODIFIED:20260115T151557Z
UID:10001385-1858010400-1858014000@trimblecountyky.gov
SUMMARY:Code Enforcement Board Regular Meeting
DESCRIPTION:The Code Enforcement Board meets the 3rd Thursday of each month at 6:00pm.
URL:https://trimblecountyky.gov/event/code-enforcement-board-regular-meeting/2028-11-16/
LOCATION:Trimble County Fiscal Court Building\, 123 Church Street\, Bedford\, KY\, 40006\, United States
END:VEVENT
BEGIN:VEVENT
DTSTART;TZID=America/Chicago:20281120T090000
DTEND;TZID=America/Chicago:20281120T090000
DTSTAMP:20260424T094400
CREATED:20250131T005140Z
LAST-MODIFIED:20250225T171358Z
UID:10000289-1858323600-1858323600@trimblecountyky.gov
SUMMARY:Fiscal Court Meeting
DESCRIPTION:Fiscal Court meeting are the 1st and 3rd Monday of each month. \n1st Monday meeting @ 6:30pm3rd Monday meeting @ 9:00am \nIf a regular meeting falls on a Holiday\, the meeting will be held the next day at the regular scheduled time.
URL:https://trimblecountyky.gov/event/fiscal-court-meeting-2/2028-11-20/
LOCATION:Trimble County Fiscal Court Building\, 123 Church Street\, Bedford\, KY\, 40006\, United States
CATEGORIES:Fiscal Court
END:VEVENT
BEGIN:VEVENT
DTSTART;TZID=America/Chicago:20281121T180000
DTEND;TZID=America/Chicago:20281121T190000
DTSTAMP:20260424T094400
CREATED:20250221T162522Z
LAST-MODIFIED:20250225T175715Z
UID:10000475-1858442400-1858446000@trimblecountyky.gov
SUMMARY:Bedford City Meeting
DESCRIPTION:Bedford City meetings are the third Tuesday of every month at 6:00 pm at the Community Center.
URL:https://trimblecountyky.gov/event/bedford-city-meeting/2028-11-21/
LOCATION:Morgan Community Center\, 147 Victory Lane\, Bedford\, KY\, 40006
CATEGORIES:Bedford City
END:VEVENT
BEGIN:VEVENT
DTSTART;TZID=America/Chicago:20281122T080000
DTEND;TZID=America/Chicago:20281122T170000
DTSTAMP:20260424T094400
CREATED:20250130T200826Z
LAST-MODIFIED:20250225T183756Z
UID:10000163-1858492800-1858525200@trimblecountyky.gov
SUMMARY:Dare to Care
DESCRIPTION:4th Wednesday of every month at Trimble County Park.
URL:https://trimblecountyky.gov/event/dare-to-care/2028-11-22/
LOCATION:Trimble County Park\, 3114 Hwy 421 N.\, Bedford\, KY\, 40006
CATEGORIES:Parks & Recreation
END:VEVENT
BEGIN:VEVENT
DTSTART;TZID=America/Chicago:20281122T090000
DTEND;TZID=America/Chicago:20281122T090000
DTSTAMP:20260424T094400
CREATED:20250322T155240Z
LAST-MODIFIED:20250322T155240Z
UID:10000545-1858496400-1858496400@trimblecountyky.gov
SUMMARY:Trimble County Water Board Regular Meeting
DESCRIPTION:Trimble County Water Board meetings are the last Wednesday of every month at 9:00 am.
URL:https://trimblecountyky.gov/event/trimble-county-water-board-regular-meeting/2028-11-22/
LOCATION:KY
CATEGORIES:Water Board
END:VEVENT
BEGIN:VEVENT
DTSTART;TZID=America/Chicago:20281204T183000
DTEND;TZID=America/Chicago:20281204T183000
DTSTAMP:20260424T094400
CREATED:20250131T004113Z
LAST-MODIFIED:20250225T171331Z
UID:10000229-1859567400-1859567400@trimblecountyky.gov
SUMMARY:Fiscal Court Meeting
DESCRIPTION:Fiscal Court meetings are the 1st and 3rd Monday of each month. \n1st Monday meeting is at 6:30pm3rd Monday meeting is at 9:00am \nIf a regular meeting falls on a Holiday\, it will be the following day at the regular scheduled meeting time.
URL:https://trimblecountyky.gov/event/fiscal-court-meeting/2028-12-04/
LOCATION:Trimble County Fiscal Court Building\, 123 Church Street\, Bedford\, KY\, 40006\, United States
CATEGORIES:Fiscal Court
END:VEVENT
BEGIN:VEVENT
DTSTART;TZID=America/Chicago:20281212T173000
DTEND;TZID=America/Chicago:20281212T183000
DTSTAMP:20260424T094400
CREATED:20250131T005741Z
LAST-MODIFIED:20250629T202138Z
UID:10001218-1860255000-1860258600@trimblecountyky.gov
SUMMARY:Planning and Zoning Meeting
DESCRIPTION:Planning and Zoning Board meets the 2nd Tuesday of each month at 5:30pm.
URL:https://trimblecountyky.gov/event/planning-and-zoning-meeting/2028-12-12/
LOCATION:Trimble County Fiscal Court Building\, 123 Church Street\, Bedford\, KY\, 40006\, United States
CATEGORIES:Planning & Zoning
END:VEVENT
BEGIN:VEVENT
DTSTART;TZID=America/Chicago:20281218T090000
DTEND;TZID=America/Chicago:20281218T090000
DTSTAMP:20260424T094400
CREATED:20250131T005140Z
LAST-MODIFIED:20250225T171358Z
UID:10000290-1860742800-1860742800@trimblecountyky.gov
SUMMARY:Fiscal Court Meeting
DESCRIPTION:Fiscal Court meeting are the 1st and 3rd Monday of each month. \n1st Monday meeting @ 6:30pm3rd Monday meeting @ 9:00am \nIf a regular meeting falls on a Holiday\, the meeting will be held the next day at the regular scheduled time.
URL:https://trimblecountyky.gov/event/fiscal-court-meeting-2/2028-12-18/
LOCATION:Trimble County Fiscal Court Building\, 123 Church Street\, Bedford\, KY\, 40006\, United States
CATEGORIES:Fiscal Court
END:VEVENT
BEGIN:VEVENT
DTSTART;TZID=America/Chicago:20281219T180000
DTEND;TZID=America/Chicago:20281219T190000
DTSTAMP:20260424T094400
CREATED:20250221T162522Z
LAST-MODIFIED:20250225T175715Z
UID:10000476-1860861600-1860865200@trimblecountyky.gov
SUMMARY:Bedford City Meeting
DESCRIPTION:Bedford City meetings are the third Tuesday of every month at 6:00 pm at the Community Center.
URL:https://trimblecountyky.gov/event/bedford-city-meeting/2028-12-19/
LOCATION:Morgan Community Center\, 147 Victory Lane\, Bedford\, KY\, 40006
CATEGORIES:Bedford City
END:VEVENT
BEGIN:VEVENT
DTSTART;TZID=America/Chicago:20281221T180000
DTEND;TZID=America/Chicago:20281221T190000
DTSTAMP:20260424T094400
CREATED:20260115T151557Z
LAST-MODIFIED:20260115T151557Z
UID:10001386-1861034400-1861038000@trimblecountyky.gov
SUMMARY:Code Enforcement Board Regular Meeting
DESCRIPTION:The Code Enforcement Board meets the 3rd Thursday of each month at 6:00pm.
URL:https://trimblecountyky.gov/event/code-enforcement-board-regular-meeting/2028-12-21/
LOCATION:Trimble County Fiscal Court Building\, 123 Church Street\, Bedford\, KY\, 40006\, United States
END:VEVENT
BEGIN:VEVENT
DTSTART;TZID=America/Chicago:20281227T080000
DTEND;TZID=America/Chicago:20281227T170000
DTSTAMP:20260424T094400
CREATED:20250130T200826Z
LAST-MODIFIED:20250225T183756Z
UID:10000164-1861516800-1861549200@trimblecountyky.gov
SUMMARY:Dare to Care
DESCRIPTION:4th Wednesday of every month at Trimble County Park.
URL:https://trimblecountyky.gov/event/dare-to-care/2028-12-27/
LOCATION:Trimble County Park\, 3114 Hwy 421 N.\, Bedford\, KY\, 40006
CATEGORIES:Parks & Recreation
END:VEVENT
BEGIN:VEVENT
DTSTART;TZID=America/Chicago:20281227T090000
DTEND;TZID=America/Chicago:20281227T090000
DTSTAMP:20260424T094400
CREATED:20250322T155240Z
LAST-MODIFIED:20250322T155240Z
UID:10000546-1861520400-1861520400@trimblecountyky.gov
SUMMARY:Trimble County Water Board Regular Meeting
DESCRIPTION:Trimble County Water Board meetings are the last Wednesday of every month at 9:00 am.
URL:https://trimblecountyky.gov/event/trimble-county-water-board-regular-meeting/2028-12-27/
LOCATION:KY
CATEGORIES:Water Board
END:VEVENT
BEGIN:VEVENT
DTSTART;TZID=America/Chicago:20290101T183000
DTEND;TZID=America/Chicago:20290101T183000
DTSTAMP:20260424T094400
CREATED:20250131T004113Z
LAST-MODIFIED:20250225T171331Z
UID:10000230-1861986600-1861986600@trimblecountyky.gov
SUMMARY:Fiscal Court Meeting
DESCRIPTION:Fiscal Court meetings are the 1st and 3rd Monday of each month. \n1st Monday meeting is at 6:30pm3rd Monday meeting is at 9:00am \nIf a regular meeting falls on a Holiday\, it will be the following day at the regular scheduled meeting time.
URL:https://trimblecountyky.gov/event/fiscal-court-meeting/2029-01-01/
LOCATION:Trimble County Fiscal Court Building\, 123 Church Street\, Bedford\, KY\, 40006\, United States
CATEGORIES:Fiscal Court
END:VEVENT
BEGIN:VEVENT
DTSTART;TZID=America/Chicago:20290109T173000
DTEND;TZID=America/Chicago:20290109T183000
DTSTAMP:20260424T094400
CREATED:20250131T005741Z
LAST-MODIFIED:20250629T202138Z
UID:10001219-1862674200-1862677800@trimblecountyky.gov
SUMMARY:Planning and Zoning Meeting
DESCRIPTION:Planning and Zoning Board meets the 2nd Tuesday of each month at 5:30pm.
URL:https://trimblecountyky.gov/event/planning-and-zoning-meeting/2029-01-09/
LOCATION:Trimble County Fiscal Court Building\, 123 Church Street\, Bedford\, KY\, 40006\, United States
CATEGORIES:Planning & Zoning
END:VEVENT
BEGIN:VEVENT
DTSTART;TZID=America/Chicago:20290115T090000
DTEND;TZID=America/Chicago:20290115T090000
DTSTAMP:20260424T094400
CREATED:20250131T005140Z
LAST-MODIFIED:20250225T171358Z
UID:10000291-1863162000-1863162000@trimblecountyky.gov
SUMMARY:Fiscal Court Meeting
DESCRIPTION:Fiscal Court meeting are the 1st and 3rd Monday of each month. \n1st Monday meeting @ 6:30pm3rd Monday meeting @ 9:00am \nIf a regular meeting falls on a Holiday\, the meeting will be held the next day at the regular scheduled time.
URL:https://trimblecountyky.gov/event/fiscal-court-meeting-2/2029-01-15/
LOCATION:Trimble County Fiscal Court Building\, 123 Church Street\, Bedford\, KY\, 40006\, United States
CATEGORIES:Fiscal Court
END:VEVENT
BEGIN:VEVENT
DTSTART;TZID=America/Chicago:20290116T180000
DTEND;TZID=America/Chicago:20290116T190000
DTSTAMP:20260424T094400
CREATED:20250221T162522Z
LAST-MODIFIED:20250225T175715Z
UID:10000477-1863280800-1863284400@trimblecountyky.gov
SUMMARY:Bedford City Meeting
DESCRIPTION:Bedford City meetings are the third Tuesday of every month at 6:00 pm at the Community Center.
URL:https://trimblecountyky.gov/event/bedford-city-meeting/2029-01-16/
LOCATION:Morgan Community Center\, 147 Victory Lane\, Bedford\, KY\, 40006
CATEGORIES:Bedford City
END:VEVENT
BEGIN:VEVENT
DTSTART;TZID=America/Chicago:20290118T180000
DTEND;TZID=America/Chicago:20290118T190000
DTSTAMP:20260424T094400
CREATED:20260115T151557Z
LAST-MODIFIED:20260115T151557Z
UID:10001387-1863453600-1863457200@trimblecountyky.gov
SUMMARY:Code Enforcement Board Regular Meeting
DESCRIPTION:The Code Enforcement Board meets the 3rd Thursday of each month at 6:00pm.
URL:https://trimblecountyky.gov/event/code-enforcement-board-regular-meeting/2029-01-18/
LOCATION:Trimble County Fiscal Court Building\, 123 Church Street\, Bedford\, KY\, 40006\, United States
END:VEVENT
BEGIN:VEVENT
DTSTART;TZID=America/Chicago:20290124T080000
DTEND;TZID=America/Chicago:20290124T170000
DTSTAMP:20260424T094400
CREATED:20250130T200826Z
LAST-MODIFIED:20250225T183756Z
UID:10000165-1863936000-1863968400@trimblecountyky.gov
SUMMARY:Dare to Care
DESCRIPTION:4th Wednesday of every month at Trimble County Park.
URL:https://trimblecountyky.gov/event/dare-to-care/2029-01-24/
LOCATION:Trimble County Park\, 3114 Hwy 421 N.\, Bedford\, KY\, 40006
CATEGORIES:Parks & Recreation
END:VEVENT
BEGIN:VEVENT
DTSTART;TZID=America/Chicago:20290124T090000
DTEND;TZID=America/Chicago:20290124T090000
DTSTAMP:20260424T094401
CREATED:20250322T155240Z
LAST-MODIFIED:20250322T155240Z
UID:10000547-1863939600-1863939600@trimblecountyky.gov
SUMMARY:Trimble County Water Board Regular Meeting
DESCRIPTION:Trimble County Water Board meetings are the last Wednesday of every month at 9:00 am.
URL:https://trimblecountyky.gov/event/trimble-county-water-board-regular-meeting/2029-01-24/
LOCATION:KY
CATEGORIES:Water Board
END:VEVENT
BEGIN:VEVENT
DTSTART;TZID=America/Chicago:20290205T183000
DTEND;TZID=America/Chicago:20290205T183000
DTSTAMP:20260424T094401
CREATED:20250131T004113Z
LAST-MODIFIED:20250225T171331Z
UID:10000231-1865010600-1865010600@trimblecountyky.gov
SUMMARY:Fiscal Court Meeting
DESCRIPTION:Fiscal Court meetings are the 1st and 3rd Monday of each month. \n1st Monday meeting is at 6:30pm3rd Monday meeting is at 9:00am \nIf a regular meeting falls on a Holiday\, it will be the following day at the regular scheduled meeting time.
URL:https://trimblecountyky.gov/event/fiscal-court-meeting/2029-02-05/
LOCATION:Trimble County Fiscal Court Building\, 123 Church Street\, Bedford\, KY\, 40006\, United States
CATEGORIES:Fiscal Court
END:VEVENT
BEGIN:VEVENT
DTSTART;TZID=America/Chicago:20290213T173000
DTEND;TZID=America/Chicago:20290213T183000
DTSTAMP:20260424T094401
CREATED:20250131T005741Z
LAST-MODIFIED:20250629T202138Z
UID:10001220-1865698200-1865701800@trimblecountyky.gov
SUMMARY:Planning and Zoning Meeting
DESCRIPTION:Planning and Zoning Board meets the 2nd Tuesday of each month at 5:30pm.
URL:https://trimblecountyky.gov/event/planning-and-zoning-meeting/2029-02-13/
LOCATION:Trimble County Fiscal Court Building\, 123 Church Street\, Bedford\, KY\, 40006\, United States
CATEGORIES:Planning & Zoning
END:VEVENT
BEGIN:VEVENT
DTSTART;TZID=America/Chicago:20290215T180000
DTEND;TZID=America/Chicago:20290215T190000
DTSTAMP:20260424T094401
CREATED:20260115T151557Z
LAST-MODIFIED:20260115T151557Z
UID:10001388-1865872800-1865876400@trimblecountyky.gov
SUMMARY:Code Enforcement Board Regular Meeting
DESCRIPTION:The Code Enforcement Board meets the 3rd Thursday of each month at 6:00pm.
URL:https://trimblecountyky.gov/event/code-enforcement-board-regular-meeting/2029-02-15/
LOCATION:Trimble County Fiscal Court Building\, 123 Church Street\, Bedford\, KY\, 40006\, United States
END:VEVENT
BEGIN:VEVENT
DTSTART;TZID=America/Chicago:20290219T090000
DTEND;TZID=America/Chicago:20290219T090000
DTSTAMP:20260424T094401
CREATED:20250131T005140Z
LAST-MODIFIED:20250225T171358Z
UID:10000292-1866186000-1866186000@trimblecountyky.gov
SUMMARY:Fiscal Court Meeting
DESCRIPTION:Fiscal Court meeting are the 1st and 3rd Monday of each month. \n1st Monday meeting @ 6:30pm3rd Monday meeting @ 9:00am \nIf a regular meeting falls on a Holiday\, the meeting will be held the next day at the regular scheduled time.
URL:https://trimblecountyky.gov/event/fiscal-court-meeting-2/2029-02-19/
LOCATION:Trimble County Fiscal Court Building\, 123 Church Street\, Bedford\, KY\, 40006\, United States
CATEGORIES:Fiscal Court
END:VEVENT
BEGIN:VEVENT
DTSTART;TZID=America/Chicago:20290220T180000
DTEND;TZID=America/Chicago:20290220T190000
DTSTAMP:20260424T094401
CREATED:20250221T162522Z
LAST-MODIFIED:20250225T175715Z
UID:10000478-1866304800-1866308400@trimblecountyky.gov
SUMMARY:Bedford City Meeting
DESCRIPTION:Bedford City meetings are the third Tuesday of every month at 6:00 pm at the Community Center.
URL:https://trimblecountyky.gov/event/bedford-city-meeting/2029-02-20/
LOCATION:Morgan Community Center\, 147 Victory Lane\, Bedford\, KY\, 40006
CATEGORIES:Bedford City
END:VEVENT
BEGIN:VEVENT
DTSTART;TZID=America/Chicago:20290228T080000
DTEND;TZID=America/Chicago:20290228T170000
DTSTAMP:20260424T094401
CREATED:20250130T200826Z
LAST-MODIFIED:20250225T183756Z
UID:10000166-1866960000-1866992400@trimblecountyky.gov
SUMMARY:Dare to Care
DESCRIPTION:4th Wednesday of every month at Trimble County Park.
URL:https://trimblecountyky.gov/event/dare-to-care/2029-02-28/
LOCATION:Trimble County Park\, 3114 Hwy 421 N.\, Bedford\, KY\, 40006
CATEGORIES:Parks & Recreation
END:VEVENT
BEGIN:VEVENT
DTSTART;TZID=America/Chicago:20290228T090000
DTEND;TZID=America/Chicago:20290228T090000
DTSTAMP:20260424T094401
CREATED:20250322T155240Z
LAST-MODIFIED:20250322T155240Z
UID:10000548-1866963600-1866963600@trimblecountyky.gov
SUMMARY:Trimble County Water Board Regular Meeting
DESCRIPTION:Trimble County Water Board meetings are the last Wednesday of every month at 9:00 am.
URL:https://trimblecountyky.gov/event/trimble-county-water-board-regular-meeting/2029-02-28/
LOCATION:KY
CATEGORIES:Water Board
END:VEVENT
END:VCALENDAR